BEGIN:VCALENDAR
VERSION:2.0
PRODID:-//Zacharias Sexual Abuse Center | ZCenter - ECPv6.15.13//NONSGML v1.0//EN
CALSCALE:GREGORIAN
METHOD:PUBLISH
X-WR-CALNAME:Zacharias Sexual Abuse Center | ZCenter
X-ORIGINAL-URL:https://zcenter.org
X-WR-CALDESC:Events for Zacharias Sexual Abuse Center | ZCenter
REFRESH-INTERVAL;VALUE=DURATION:PT1H
X-Robots-Tag:noindex
X-PUBLISHED-TTL:PT1H
BEGIN:VTIMEZONE
TZID:America/Chicago
BEGIN:DAYLIGHT
TZOFFSETFROM:-0600
TZOFFSETTO:-0500
TZNAME:CDT
DTSTART:20220313T080000
END:DAYLIGHT
BEGIN:STANDARD
TZOFFSETFROM:-0500
TZOFFSETTO:-0600
TZNAME:CST
DTSTART:20221106T070000
END:STANDARD
BEGIN:DAYLIGHT
TZOFFSETFROM:-0600
TZOFFSETTO:-0500
TZNAME:CDT
DTSTART:20230312T080000
END:DAYLIGHT
BEGIN:STANDARD
TZOFFSETFROM:-0500
TZOFFSETTO:-0600
TZNAME:CST
DTSTART:20231105T070000
END:STANDARD
BEGIN:DAYLIGHT
TZOFFSETFROM:-0600
TZOFFSETTO:-0500
TZNAME:CDT
DTSTART:20240310T080000
END:DAYLIGHT
BEGIN:STANDARD
TZOFFSETFROM:-0500
TZOFFSETTO:-0600
TZNAME:CST
DTSTART:20241103T070000
END:STANDARD
END:VTIMEZONE
BEGIN:VEVENT
DTSTART;TZID=America/Chicago:20231115T170000
DTEND;TZID=America/Chicago:20231115T180000
DTSTAMP:20260421T210309
CREATED:20230930T193021Z
LAST-MODIFIED:20231110T182010Z
UID:6240-1700067600-1700071200@zcenter.org
SUMMARY:Open Mic Night - Nov 15
DESCRIPTION:Calling All Writers\, Poets & Musicians – for Survivors & Significant Others
URL:https://zcenter.org/event/open-mic-night/
LOCATION:4275 Old Grand Ave\, Gurnee\, IL 60031\, 4275 Old Grand Ave\, Gurnee\, IL\, 60031\, United States
CATEGORIES:All Events,Public,Single Event
ATTACH;FMTTYPE=image/png:https://zcenter.org/wp-content/uploads/2023/09/Open-Mic.png
END:VEVENT
END:VCALENDAR