BEGIN:VCALENDAR
VERSION:2.0
PRODID:-//Zacharias Sexual Abuse Center | ZCenter - ECPv6.15.13//NONSGML v1.0//EN
CALSCALE:GREGORIAN
METHOD:PUBLISH
X-WR-CALNAME:Zacharias Sexual Abuse Center | ZCenter
X-ORIGINAL-URL:https://zcenter.org
X-WR-CALDESC:Events for Zacharias Sexual Abuse Center | ZCenter
REFRESH-INTERVAL;VALUE=DURATION:PT1H
X-Robots-Tag:noindex
X-PUBLISHED-TTL:PT1H
BEGIN:VTIMEZONE
TZID:America/Chicago
BEGIN:DAYLIGHT
TZOFFSETFROM:-0600
TZOFFSETTO:-0500
TZNAME:CDT
DTSTART:20220313T080000
END:DAYLIGHT
BEGIN:STANDARD
TZOFFSETFROM:-0500
TZOFFSETTO:-0600
TZNAME:CST
DTSTART:20221106T070000
END:STANDARD
BEGIN:DAYLIGHT
TZOFFSETFROM:-0600
TZOFFSETTO:-0500
TZNAME:CDT
DTSTART:20230312T080000
END:DAYLIGHT
BEGIN:STANDARD
TZOFFSETFROM:-0500
TZOFFSETTO:-0600
TZNAME:CST
DTSTART:20231105T070000
END:STANDARD
BEGIN:DAYLIGHT
TZOFFSETFROM:-0600
TZOFFSETTO:-0500
TZNAME:CDT
DTSTART:20240310T080000
END:DAYLIGHT
BEGIN:STANDARD
TZOFFSETFROM:-0500
TZOFFSETTO:-0600
TZNAME:CST
DTSTART:20241103T070000
END:STANDARD
END:VTIMEZONE
BEGIN:VEVENT
DTSTART;VALUE=DATE:20230107
DTEND;VALUE=DATE:20230108
DTSTAMP:20260425T135514
CREATED:20221212T213258Z
LAST-MODIFIED:20221212T213538Z
UID:5696-1673049600-1673135999@zcenter.org
SUMMARY:40-Hour Volunteer Training: January 2023
DESCRIPTION:
URL:https://zcenter.org/event/40-hour-volunteer-training-january-2023/
LOCATION:IL
CATEGORIES:Public,Volunteer Training Event
ATTACH;FMTTYPE=image/jpeg:https://zcenter.org/wp-content/uploads/2022/11/Volunteer-Info-for-Instagram-1.jpg
END:VEVENT
END:VCALENDAR