BEGIN:VCALENDAR
VERSION:2.0
PRODID:-//Zacharias Sexual Abuse Center | ZCenter - ECPv6.15.13//NONSGML v1.0//EN
CALSCALE:GREGORIAN
METHOD:PUBLISH
X-ORIGINAL-URL:https://zcenter.org
X-WR-CALDESC:Events for Zacharias Sexual Abuse Center | ZCenter
REFRESH-INTERVAL;VALUE=DURATION:PT1H
X-Robots-Tag:noindex
X-PUBLISHED-TTL:PT1H
BEGIN:VTIMEZONE
TZID:America/Chicago
BEGIN:DAYLIGHT
TZOFFSETFROM:-0600
TZOFFSETTO:-0500
TZNAME:CDT
DTSTART:20240310T080000
END:DAYLIGHT
BEGIN:STANDARD
TZOFFSETFROM:-0500
TZOFFSETTO:-0600
TZNAME:CST
DTSTART:20241103T070000
END:STANDARD
BEGIN:DAYLIGHT
TZOFFSETFROM:-0600
TZOFFSETTO:-0500
TZNAME:CDT
DTSTART:20250309T080000
END:DAYLIGHT
BEGIN:STANDARD
TZOFFSETFROM:-0500
TZOFFSETTO:-0600
TZNAME:CST
DTSTART:20251102T070000
END:STANDARD
BEGIN:DAYLIGHT
TZOFFSETFROM:-0600
TZOFFSETTO:-0500
TZNAME:CDT
DTSTART:20260308T080000
END:DAYLIGHT
BEGIN:STANDARD
TZOFFSETFROM:-0500
TZOFFSETTO:-0600
TZNAME:CST
DTSTART:20261101T070000
END:STANDARD
END:VTIMEZONE
BEGIN:VEVENT
DTSTART;TZID=America/Chicago:20250404T180000
DTEND;TZID=America/Chicago:20250404T200000
DTSTAMP:20260421T205958
CREATED:20250317T163607Z
LAST-MODIFIED:20250317T165141Z
UID:7007-1743789600-1743796800@zcenter.org
SUMMARY:Community Outreach Night
DESCRIPTION:April 4: Community Outreach Night\, ZCenter Gurnee from 6-8 p.m.
URL:https://zcenter.org/event/community-night/
LOCATION:4275 Old Grand Ave\, Gurnee\, IL 60031\, 4275 Old Grand Ave\, Gurnee\, IL\, 60031\, United States
CATEGORIES:All Events,Public,Single Event
ATTACH;FMTTYPE=image/png:https://zcenter.org/wp-content/uploads/2025/03/Copy-of-Community-Outreach-night.pdf.png
END:VEVENT
BEGIN:VEVENT
DTSTART;TZID=America/Chicago:20250409T160000
DTEND;TZID=America/Chicago:20250409T190000
DTSTAMP:20260421T205958
CREATED:20250317T163804Z
LAST-MODIFIED:20250317T164806Z
UID:7009-1744214400-1744225200@zcenter.org
SUMMARY:Skokie Communi-Tea
DESCRIPTION:April 9: Skokie Communi-Tea\, ZCenter Skokie from 4-7 p.m.
URL:https://zcenter.org/event/skokie-communi-tea/
LOCATION:ZCenter – Skokie\,  4232 Dempster St.\, Skokie\, IL\, 600076\, United States
CATEGORIES:All Events,Public,Single Event
ATTACH;FMTTYPE=image/jpeg:https://zcenter.org/wp-content/uploads/2024/02/zcenter-event.jpg
END:VEVENT
BEGIN:VEVENT
DTSTART;TZID=America/Chicago:20250411T120000
DTEND;TZID=America/Chicago:20250411T140000
DTSTAMP:20260421T205958
CREATED:20250317T163921Z
LAST-MODIFIED:20250317T164832Z
UID:7011-1744372800-1744380000@zcenter.org
SUMMARY:Standing Silent Witness
DESCRIPTION:April 11: Standing Silent Witness\, ZCenter Gurnee/ Lake County Courthouse in Waukegan\, 12 p.m.
URL:https://zcenter.org/event/standing-silent-witness-7/
LOCATION:ZCenter – Gurnee\, 4275 Old Grand Ave.\, Gurnee\, IL\, 60031\, United States
CATEGORIES:All Events,Public,Single Event
ATTACH;FMTTYPE=image/jpeg:https://zcenter.org/wp-content/uploads/2024/02/zcenter-event.jpg
END:VEVENT
BEGIN:VEVENT
DTSTART;TZID=America/Chicago:20250418T120000
DTEND;TZID=America/Chicago:20250418T140000
DTSTAMP:20260421T205958
CREATED:20250317T164023Z
LAST-MODIFIED:20250317T164844Z
UID:7013-1744977600-1744984800@zcenter.org
SUMMARY:Standing Silent Witness
DESCRIPTION:April 18: Standing Silent Witness\, ZCenter Skokie\, 12 p.m.
URL:https://zcenter.org/event/standing-silent-witness-8/
LOCATION:ZCenter – Skokie\,  4232 Dempster St.\, Skokie\, IL\, 600076\, United States
CATEGORIES:All Events,Public,Single Event
ATTACH;FMTTYPE=image/jpeg:https://zcenter.org/wp-content/uploads/2024/02/zcenter-event.jpg
END:VEVENT
BEGIN:VEVENT
DTSTART;TZID=America/Chicago:20250418T173000
DTEND;TZID=America/Chicago:20250418T203000
DTSTAMP:20260421T205958
CREATED:20250317T164303Z
LAST-MODIFIED:20250317T164859Z
UID:7015-1744997400-1745008200@zcenter.org
SUMMARY:Pickleball Fundraiser
DESCRIPTION:April 18: Pickleball Fundraiser\, LifeSport Vernon Hills \, 5:30-8:30 p.m. More details coming soon!
URL:https://zcenter.org/event/pickleball-fundraiser/
LOCATION:LifeSport Pickleball Vernon Hills\, 450 Bunker Ct. Suite 200\, Vernon Hills\, IL\, 60201\, United States
CATEGORIES:All Events,Public,Single Event
ATTACH;FMTTYPE=image/jpeg:https://zcenter.org/wp-content/uploads/2024/02/zcenter-event.jpg
END:VEVENT
BEGIN:VEVENT
DTSTART;TZID=America/Chicago:20250418T173000
DTEND;TZID=America/Chicago:20250418T203000
DTSTAMP:20260421T205958
CREATED:20250324T133214Z
LAST-MODIFIED:20250324T133214Z
UID:7044-1744997400-1745008200@zcenter.org
SUMMARY:Pickleball Fundraiser
DESCRIPTION:Friday\, April 18\, 5:30-8:30pm
URL:https://zcenter.org/event/pickleball-fundraiser-2/
LOCATION:450 Bunker Ct\, Suite 200\, Vernon Hills\, IL 60061\, 450 Bunker Ct.\, Suite 200\, Vernon Hills\, IL\, 60061\, United States
CATEGORIES:All Events,Public,Single Event
ATTACH;FMTTYPE=image/jpeg:https://zcenter.org/wp-content/uploads/2025/03/IMG_4717.jpeg
END:VEVENT
BEGIN:VEVENT
DTSTART;VALUE=DATE:20250424
DTEND;VALUE=DATE:20250425
DTSTAMP:20260421T205958
CREATED:20250317T164454Z
LAST-MODIFIED:20250317T164517Z
UID:7018-1745452800-1745539199@zcenter.org
SUMMARY:ZCenter and CLC: Survivor Voices
DESCRIPTION:April 24: ZCenter and CLC: Survivor Voices\, CLC Grayslake Campus
URL:https://zcenter.org/event/zcenter-and-clc-survivor-voices/
LOCATION:CLC Grayslake Campus
CATEGORIES:All Events,Public,Single Event
ATTACH;FMTTYPE=image/jpeg:https://zcenter.org/wp-content/uploads/2024/02/zcenter-event.jpg
END:VEVENT
BEGIN:VEVENT
DTSTART;VALUE=DATE:20250430
DTEND;VALUE=DATE:20250501
DTSTAMP:20260421T205958
CREATED:20250317T164713Z
LAST-MODIFIED:20250317T164930Z
UID:7025-1745971200-1746057599@zcenter.org
SUMMARY:Denim Day
DESCRIPTION:April 30: Denim Day\, all day. Wear your jeans to support survivors!
URL:https://zcenter.org/event/denim-day-3/
CATEGORIES:All Events,Public,Single Event
ATTACH;FMTTYPE=image/jpeg:https://zcenter.org/wp-content/uploads/2024/02/zcenter-event.jpg
END:VEVENT
BEGIN:VEVENT
DTSTART;TZID=America/Chicago:20250430T173000
DTEND;TZID=America/Chicago:20250430T193000
DTSTAMP:20260421T205958
CREATED:20250317T164622Z
LAST-MODIFIED:20250317T164622Z
UID:7022-1746034200-1746041400@zcenter.org
SUMMARY:An Army of Women' film screening
DESCRIPTION:April 30: An Army of Women’ film screening\, Waukegan Public Library\, 5:30-7:30 p.m.
URL:https://zcenter.org/event/an-army-of-women-film-screening/
LOCATION:College of Lake County-Lakeshore Campus\, 34 N. Sheridan Rd. \, Waukegan
CATEGORIES:All Events,Public,Single Event
ATTACH;FMTTYPE=image/jpeg:https://zcenter.org/wp-content/uploads/2024/02/zcenter-event.jpg
END:VEVENT
END:VCALENDAR