BEGIN:VCALENDAR
VERSION:2.0
PRODID:-//Zacharias Sexual Abuse Center | ZCenter - ECPv6.15.13//NONSGML v1.0//EN
CALSCALE:GREGORIAN
METHOD:PUBLISH
X-ORIGINAL-URL:https://zcenter.org
X-WR-CALDESC:Events for Zacharias Sexual Abuse Center | ZCenter
REFRESH-INTERVAL;VALUE=DURATION:PT1H
X-Robots-Tag:noindex
X-PUBLISHED-TTL:PT1H
BEGIN:VTIMEZONE
TZID:America/Chicago
BEGIN:DAYLIGHT
TZOFFSETFROM:-0600
TZOFFSETTO:-0500
TZNAME:CDT
DTSTART:20250309T080000
END:DAYLIGHT
BEGIN:STANDARD
TZOFFSETFROM:-0500
TZOFFSETTO:-0600
TZNAME:CST
DTSTART:20251102T070000
END:STANDARD
BEGIN:DAYLIGHT
TZOFFSETFROM:-0600
TZOFFSETTO:-0500
TZNAME:CDT
DTSTART:20260308T080000
END:DAYLIGHT
BEGIN:STANDARD
TZOFFSETFROM:-0500
TZOFFSETTO:-0600
TZNAME:CST
DTSTART:20261101T070000
END:STANDARD
BEGIN:DAYLIGHT
TZOFFSETFROM:-0600
TZOFFSETTO:-0500
TZNAME:CDT
DTSTART:20270314T080000
END:DAYLIGHT
BEGIN:STANDARD
TZOFFSETFROM:-0500
TZOFFSETTO:-0600
TZNAME:CST
DTSTART:20271107T070000
END:STANDARD
END:VTIMEZONE
BEGIN:VEVENT
DTSTART;TZID=America/Chicago:20260424T120000
DTEND;TZID=America/Chicago:20260424T130000
DTSTAMP:20260424T062452
CREATED:20260303T225355Z
LAST-MODIFIED:20260313T005411Z
UID:7997-1777032000-1777035600@zcenter.org
SUMMARY:Standing Silent Witness - Gurnee
DESCRIPTION:Standing Silent Witness Demonstration \nJoin Zacharias Sexual Abuse Center (ZCenter) this April for our annual Standing Silent Witness demonstration in recognition of National Sexual Assault Awareness Month. Community members gather in quiet solidarity with survivors of sexual violence\, many of whom live with their experiences in silence. \nAttendees are encouraged to wear teal\, the color of Sexual Assault Awareness Month\, to show their support. \nRegister HERE
URL:https://zcenter.org/event/standing-silent-witness-gurnee/
LOCATION:Lake County Court House\, 18 N. County St\, Waukegan\, IL\, United States
CATEGORIES:All Events
ATTACH;FMTTYPE=image/jpeg:https://zcenter.org/wp-content/uploads/2026/03/Standing-Silent-Witness_Gurnee-thumbnail.jpg
END:VEVENT
BEGIN:VEVENT
DTSTART;TZID=America/Chicago:20260427T100000
DTEND;TZID=America/Chicago:20260427T110000
DTSTAMP:20260424T062452
CREATED:20260311T135622Z
LAST-MODIFIED:20260311T140713Z
UID:8098-1777284000-1777287600@zcenter.org
SUMMARY:Continuing Education Training for Salon Professionals
DESCRIPTION:Join the Zacharias Sexual Abuse Center (ZCenter) for a one-hour\, virtual training on sexual assault awareness. This training satisfies the sexual assault continuing education requirement set by IDFPR and will cover the following. \nFor more details and to register\, please visit: https://zcenter.org/training/
URL:https://zcenter.org/event/continuing-education-training-for-salon-professionals-2/
CATEGORIES:All Events,Training
ATTACH;FMTTYPE=image/png:https://zcenter.org/wp-content/uploads/2026/03/Salon-Professionals-thumbnail_400x400px.png
END:VEVENT
BEGIN:VEVENT
DTSTART;VALUE=DATE:20260429
DTEND;VALUE=DATE:20260430
DTSTAMP:20260424T062452
CREATED:20260305T014521Z
LAST-MODIFIED:20260310T140832Z
UID:8032-1777420800-1777507199@zcenter.org
SUMMARY:Denim Day
DESCRIPTION: Join the global movement! Wear denim today to  support survivors. Tag us on social media\, too! #denimday #zcenter 
URL:https://zcenter.org/event/denim-day-4/
CATEGORIES:All Events
ATTACH;FMTTYPE=image/jpeg:https://zcenter.org/wp-content/uploads/2026/03/denim-day_2026.jpg
END:VEVENT
BEGIN:VEVENT
DTSTART;TZID=America/Chicago:20260430T130000
DTEND;TZID=America/Chicago:20260430T143000
DTSTAMP:20260424T062452
CREATED:20260303T230410Z
LAST-MODIFIED:20260313T005503Z
UID:8011-1777554000-1777559400@zcenter.org
SUMMARY:Forest Bathing
DESCRIPTION:Join us for a slow\, guided tour of healing and relaxation in the forest.  \nRegister HERE
URL:https://zcenter.org/event/forest-bathing/
LOCATION:Des Plaines River Trail (Gurnee)
CATEGORIES:All Events
ATTACH;FMTTYPE=image/png:https://zcenter.org/wp-content/uploads/2026/03/forest-bathing.png
END:VEVENT
END:VCALENDAR